Workbook

Sheet Instrucciones
B2: Plantilla de metas de ahorro
B3: Plantilla gratuita de CuadraCuentas · cuadracuentas.com
B5: 1. En la pestaña Metas, escribe cada objetivo, cuánto necesitas y para qué fecha.
B6: 2. Cada vez que apartes dinero, apúntalo en la pestaña Aportaciones y elige la meta en la lista desplegable.
B7: 3. La pestaña Metas calcula lo ahorrado, lo que falta, el progreso y cuánto apartar al mes para llegar a tiempo.
B8: 4. Si el ahorro mensual necesario es demasiado alto, retrasa la fecha o reduce el importe.
B10: Las celdas amarillas son las que rellenas tú. El resto se calcula solo.
B11: Sin moneda fija: los importes son números, sirve con euros, pesos, soles o dólares.
B12: CuadraCuentas no está afiliada a Microsoft ni a Google. Uso orientativo; no es asesoramiento financiero.

Sheet Metas
A1: Metas de ahorro
A2: Meta | B2: Objetivo | C2: Fecha límite | D2: Ahorrado | E2: Falta | F2: Progreso | G2: Meses restantes | H2: Ahorro al mes necesario
A3: Fondo de emergencia | B3: 6000 | C3: 46752 | D3: =IF(A3="","",SUMIFS(Aportaciones!$C:$C,Aportaciones!$B:$B,A3)) | E3: =IF(A3="","",MAX(0,B3-D3)) | F3: =IF(OR(A3="",B3=0),"",MIN(1,D3/B3)) | G3: =IF(OR(A3="",C3=""),"",MAX(1,(YEAR(C3)-YEAR(TODAY()))*12+MONTH(C3)-MONTH(TODAY()))) | H3: =IF(OR(A3="",G3=""),"",E3/G3)
A4: Vacaciones de verano | B4: 1500 | C4: 46569 | D4: =IF(A4="","",SUMIFS(Aportaciones!$C:$C,Aportaciones!$B:$B,A4)) | E4: =IF(A4="","",MAX(0,B4-D4)) | F4: =IF(OR(A4="",B4=0),"",MIN(1,D4/B4)) | G4: =IF(OR(A4="",C4=""),"",MAX(1,(YEAR(C4)-YEAR(TODAY()))*12+MONTH(C4)-MONTH(TODAY()))) | H4: =IF(OR(A4="",G4=""),"",E4/G4)
A5: Portátil nuevo | B5: 900 | C5: 46447 | D5: =IF(A5="","",SUMIFS(Aportaciones!$C:$C,Aportaciones!$B:$B,A5)) | E5: =IF(A5="","",MAX(0,B5-D5)) | F5: =IF(OR(A5="",B5=0),"",MIN(1,D5/B5)) | G5: =IF(OR(A5="",C5=""),"",MAX(1,(YEAR(C5)-YEAR(TODAY()))*12+MONTH(C5)-MONTH(TODAY()))) | H5: =IF(OR(A5="",G5=""),"",E5/G5)
A6: Entrada de un piso | B6: 20000 | C6: 47664 | D6: =IF(A6="","",SUMIFS(Aportaciones!$C:$C,Aportaciones!$B:$B,A6)) | E6: =IF(A6="","",MAX(0,B6-D6)) | F6: =IF(OR(A6="",B6=0),"",MIN(1,D6/B6)) | G6: =IF(OR(A6="",C6=""),"",MAX(1,(YEAR(C6)-YEAR(TODAY()))*12+MONTH(C6)-MONTH(TODAY()))) | H6: =IF(OR(A6="",G6=""),"",E6/G6)
D7: =IF(A7="","",SUMIFS(Aportaciones!$C:$C,Aportaciones!$B:$B,A7)) | E7: =IF(A7="","",MAX(0,B7-D7)) | F7: =IF(OR(A7="",B7=0),"",MIN(1,D7/B7)) | G7: =IF(OR(A7="",C7=""),"",MAX(1,(YEAR(C7)-YEAR(TODAY()))*12+MONTH(C7)-MONTH(TODAY()))) | H7: =IF(OR(A7="",G7=""),"",E7/G7)
D8: =IF(A8="","",SUMIFS(Aportaciones!$C:$C,Aportaciones!$B:$B,A8)) | E8: =IF(A8="","",MAX(0,B8-D8)) | F8: =IF(OR(A8="",B8=0),"",MIN(1,D8/B8)) | G8: =IF(OR(A8="",C8=""),"",MAX(1,(YEAR(C8)-YEAR(TODAY()))*12+MONTH(C8)-MONTH(TODAY()))) | H8: =IF(OR(A8="",G8=""),"",E8/G8)
D9: =IF(A9="","",SUMIFS(Aportaciones!$C:$C,Aportaciones!$B:$B,A9)) | E9: =IF(A9="","",MAX(0,B9-D9)) | F9: =IF(OR(A9="",B9=0),"",MIN(1,D9/B9)) | G9: =IF(OR(A9="",C9=""),"",MAX(1,(YEAR(C9)-YEAR(TODAY()))*12+MONTH(C9)-MONTH(TODAY()))) | H9: =IF(OR(A9="",G9=""),"",E9/G9)
D10: =IF(A10="","",SUMIFS(Aportaciones!$C:$C,Aportaciones!$B:$B,A10)) | E10: =IF(A10="","",MAX(0,B10-D10)) | F10: =IF(OR(A10="",B10=0),"",MIN(1,D10/B10)) | G10: =IF(OR(A10="",C10=""),"",MAX(1,(YEAR(C10)-YEAR(TODAY()))*12+MONTH(C10)-MONTH(TODAY()))) | H10: =IF(OR(A10="",G10=""),"",E10/G10)
D11: =IF(A11="","",SUMIFS(Aportaciones!$C:$C,Aportaciones!$B:$B,A11)) | E11: =IF(A11="","",MAX(0,B11-D11)) | F11: =IF(OR(A11="",B11=0),"",MIN(1,D11/B11)) | G11: =IF(OR(A11="",C11=""),"",MAX(1,(YEAR(C11)-YEAR(TODAY()))*12+MONTH(C11)-MONTH(TODAY()))) | H11: =IF(OR(A11="",G11=""),"",E11/G11)
D12: =IF(A12="","",SUMIFS(Aportaciones!$C:$C,Aportaciones!$B:$B,A12)) | E12: =IF(A12="","",MAX(0,B12-D12)) | F12: =IF(OR(A12="",B12=0),"",MIN(1,D12/B12)) | G12: =IF(OR(A12="",C12=""),"",MAX(1,(YEAR(C12)-YEAR(TODAY()))*12+MONTH(C12)-MONTH(TODAY()))) | H12: =IF(OR(A12="",G12=""),"",E12/G12)
A13: Total | B13: =SUM(B3:B12) | D13: =SUM(D3:D12) | E13: =SUM(E3:E12) | H13: =SUM(H3:H12)

Sheet Aportaciones
A1: Fecha | B1: Meta | C1: Importe | D1: Nota
A2: 46296 | B2: Fondo de emergencia | C2: 200
A3: 46296 | B3: Vacaciones de verano | C3: 100
A4: 46310 | B4: Portátil nuevo | C4: 150
A5: 46327 | B5: Fondo de emergencia | C5: 200
A6: 46327 | B6: Entrada de un piso | C6: 250
